BEGIN:VCALENDAR
VERSION:2.0
PRODID:-//North Jersey Friendship House - ECPv6.15.16.1//NONSGML v1.0//EN
CALSCALE:GREGORIAN
METHOD:PUBLISH
X-ORIGINAL-URL:https://njfriendshiphouse.org
X-WR-CALDESC:Events for North Jersey Friendship House
REFRESH-INTERVAL;VALUE=DURATION:PT1H
X-Robots-Tag:noindex
X-PUBLISHED-TTL:PT1H
BEGIN:VTIMEZONE
TZID:America/New_York
BEGIN:DAYLIGHT
TZOFFSETFROM:-0500
TZOFFSETTO:-0400
TZNAME:EDT
DTSTART:20240310T070000
END:DAYLIGHT
BEGIN:STANDARD
TZOFFSETFROM:-0400
TZOFFSETTO:-0500
TZNAME:EST
DTSTART:20241103T060000
END:STANDARD
BEGIN:DAYLIGHT
TZOFFSETFROM:-0500
TZOFFSETTO:-0400
TZNAME:EDT
DTSTART:20250309T070000
END:DAYLIGHT
BEGIN:STANDARD
TZOFFSETFROM:-0400
TZOFFSETTO:-0500
TZNAME:EST
DTSTART:20251102T060000
END:STANDARD
BEGIN:DAYLIGHT
TZOFFSETFROM:-0500
TZOFFSETTO:-0400
TZNAME:EDT
DTSTART:20260308T070000
END:DAYLIGHT
BEGIN:STANDARD
TZOFFSETFROM:-0400
TZOFFSETTO:-0500
TZNAME:EST
DTSTART:20261101T060000
END:STANDARD
END:VTIMEZONE
BEGIN:VEVENT
DTSTART;TZID=America/New_York:20250912T183000
DTEND;TZID=America/New_York:20250912T203000
DTSTAMP:20260424T224508
CREATED:20250903T151431Z
LAST-MODIFIED:20250912T132503Z
UID:4888-1757701800-1757709000@njfriendshiphouse.org
SUMMARY:Seussical Jr. - Friday Evening - 9/12
DESCRIPTION:Seussical Jr. Performances start tonight! \n⚠️ Online sales closed last night\, but walk-ins are welcome at both performances! \n 💵 $20 per ticket – cash\, check\, and credit cards accepted.\n✅ No physical tickets will be issued – your name will be at check-in. Please let everyone in your party know to check in under the ticket purchaser’s name. \n 🍿 A concession stand with great snacks will be available at each performance.\n🎟️ Don’t forget to grab your Fall 50/50 tickets for a chance to win while supporting our programs! \nEmail kenglish@njfriendshiphouse.org if you have any questions. \nYou can donate to the theater program here.
URL:https://njfriendshiphouse.org/event/seussical-jr/
LOCATION:Rosen Performing Arts Center\, 1 Pike Drive\, Wayne\, 07470\, United States
CATEGORIES:Day Program
ATTACH;FMTTYPE=image/png:https://njfriendshiphouse.org/wp-content/uploads/2025/09/Seussical-Jr.-Flyer.png
END:VEVENT
BEGIN:VEVENT
DTSTART;TZID=America/New_York:20250913T133000
DTEND;TZID=America/New_York:20250913T153000
DTSTAMP:20260424T224508
CREATED:20250903T151150Z
LAST-MODIFIED:20250912T130506Z
UID:4862-1757770200-1757777400@njfriendshiphouse.org
SUMMARY:Seussical Jr. - Saturday Afternoon 9/13
DESCRIPTION:  \nSeussical Jr. Performances start tonight\, 9/12! \n⚠️ Online sales closed last night\, but walk-ins are welcome at both performances! \n 💵 $20 per ticket – cash\, check\, and credit cards accepted.\n✅ No physical tickets will be issued – your name will be at check-in. Please let everyone in your party know to check in under the ticket purchaser’s name. \n 🍿 A concession stand with great snacks will be available at each performance.\n🎟️ Don’t forget to grab your Fall 50/50 tickets for a chance to win while supporting our programs! \nEmail kenglish@njfriendshiphouse.org if you have any questions. \nYou can donate to the theater program here.
URL:https://njfriendshiphouse.org/event/finding-nemo-jr-3/
LOCATION:Rosen Performing Arts Center\, 1 Pike Drive\, Wayne\, 07470\, United States
CATEGORIES:Day Program
ATTACH;FMTTYPE=image/png:https://njfriendshiphouse.org/wp-content/uploads/2025/09/Seussical-Jr.-Flyer.png
END:VEVENT
END:VCALENDAR