BEGIN:VCALENDAR
VERSION:2.0
PRODID:-//North Jersey Friendship House - ECPv6.15.16.1//NONSGML v1.0//EN
CALSCALE:GREGORIAN
METHOD:PUBLISH
X-WR-CALNAME:North Jersey Friendship House
X-ORIGINAL-URL:https://njfriendshiphouse.org
X-WR-CALDESC:Events for North Jersey Friendship House
REFRESH-INTERVAL;VALUE=DURATION:PT1H
X-Robots-Tag:noindex
X-PUBLISHED-TTL:PT1H
BEGIN:VTIMEZONE
TZID:UTC
BEGIN:STANDARD
TZOFFSETFROM:+0000
TZOFFSETTO:+0000
TZNAME:UTC
DTSTART:20180101T000000
END:STANDARD
END:VTIMEZONE
BEGIN:VEVENT
DTSTART;TZID=UTC:20191231T000000
DTEND;TZID=UTC:20200201T000000
DTSTAMP:20260424T131552
CREATED:20191203T034508Z
LAST-MODIFIED:20200125T025219Z
UID:3404-1577750400-1580515200@njfriendshiphouse.org
SUMMARY:55th Anniversary No Show Gala
DESCRIPTION:North Jersey Friendship House\nrequests the Honor of your Absence\nat our 55th Anniversary No Show Gala\nDate: The Saturday Night of Your Choice\nTime: Anytime You Choose\nPlace: From Anywhere You Choose \nDonate Now!
URL:https://njfriendshiphouse.org/event/55th-anniversary-no-show-gala/
LOCATION:NJ
ATTACH;FMTTYPE=image/jpeg:https://njfriendshiphouse.org/wp-content/uploads/2019/11/Home-Page-Donate-Now.jpg
END:VEVENT
END:VCALENDAR