BEGIN:VCALENDAR
VERSION:2.0
PRODID:-//North Jersey Friendship House - ECPv6.15.16.1//NONSGML v1.0//EN
CALSCALE:GREGORIAN
METHOD:PUBLISH
X-WR-CALNAME:North Jersey Friendship House
X-ORIGINAL-URL:https://njfriendshiphouse.org
X-WR-CALDESC:Events for North Jersey Friendship House
REFRESH-INTERVAL;VALUE=DURATION:PT1H
X-Robots-Tag:noindex
X-PUBLISHED-TTL:PT1H
BEGIN:VTIMEZONE
TZID:America/New_York
BEGIN:DAYLIGHT
TZOFFSETFROM:-0500
TZOFFSETTO:-0400
TZNAME:EDT
DTSTART:20240310T070000
END:DAYLIGHT
BEGIN:STANDARD
TZOFFSETFROM:-0400
TZOFFSETTO:-0500
TZNAME:EST
DTSTART:20241103T060000
END:STANDARD
BEGIN:DAYLIGHT
TZOFFSETFROM:-0500
TZOFFSETTO:-0400
TZNAME:EDT
DTSTART:20250309T070000
END:DAYLIGHT
BEGIN:STANDARD
TZOFFSETFROM:-0400
TZOFFSETTO:-0500
TZNAME:EST
DTSTART:20251102T060000
END:STANDARD
BEGIN:DAYLIGHT
TZOFFSETFROM:-0500
TZOFFSETTO:-0400
TZNAME:EDT
DTSTART:20260308T070000
END:DAYLIGHT
BEGIN:STANDARD
TZOFFSETFROM:-0400
TZOFFSETTO:-0500
TZNAME:EST
DTSTART:20261101T060000
END:STANDARD
END:VTIMEZONE
BEGIN:VEVENT
DTSTART;TZID=America/New_York:20251108T180000
DTEND;TZID=America/New_York:20251108T220000
DTSTAMP:20260424T224239
CREATED:20250814T002556Z
LAST-MODIFIED:20250814T164809Z
UID:4854-1762624800-1762639200@njfriendshiphouse.org
SUMMARY:Designer Bag Bingo & Mini Tricky Tray ** New Venue **
DESCRIPTION:We are excited to announce our upcoming Designer Bag Bingo and Mini Tricky Tray event\, scheduled for Saturday\, November 8th\, at the Boys Club of Lower Bergen County (460 Passaic Avenue\, Lodi\, NJ). \nAdmission includes one (1) book of 10 bingo cards\, along with complimentary coffee\, tea\, and dessert. Additional bingo books (10 games) can be purchased for $10 each. \nThe event will feature a mini tricky tray with approximately 30 baskets\, and an on-site 50/50 raffle will be drawn at the end of the evening. \nTickets are $35 until October 31st and can be purchased online. Then\, tickets will be $40 until the night of the event. Please consider joining us. For questions\, please email Kathy English kenglish@njfriendshiphouse.org or call 201-488-2121 ext. 315.
URL:https://njfriendshiphouse.org/event/designer-bag-bingo-2/
LOCATION:Boys and Girls Club of Lower Bergen County\, 460 Passaic Street\, Lodi\, New Jersey\, 07644
CATEGORIES:Fundraiser
ATTACH;FMTTYPE=image/png:https://njfriendshiphouse.org/wp-content/uploads/2025/08/Designer-Bag-Bingo-20.png
END:VEVENT
END:VCALENDAR