BEGIN:VCALENDAR
VERSION:2.0
PRODID:-//North Jersey Friendship House - ECPv6.15.16.1//NONSGML v1.0//EN
CALSCALE:GREGORIAN
METHOD:PUBLISH
X-WR-CALNAME:North Jersey Friendship House
X-ORIGINAL-URL:https://njfriendshiphouse.org
X-WR-CALDESC:Events for North Jersey Friendship House
REFRESH-INTERVAL;VALUE=DURATION:PT1H
X-Robots-Tag:noindex
X-PUBLISHED-TTL:PT1H
BEGIN:VTIMEZONE
TZID:America/New_York
BEGIN:DAYLIGHT
TZOFFSETFROM:-0500
TZOFFSETTO:-0400
TZNAME:EDT
DTSTART:20240310T070000
END:DAYLIGHT
BEGIN:STANDARD
TZOFFSETFROM:-0400
TZOFFSETTO:-0500
TZNAME:EST
DTSTART:20241103T060000
END:STANDARD
BEGIN:DAYLIGHT
TZOFFSETFROM:-0500
TZOFFSETTO:-0400
TZNAME:EDT
DTSTART:20250309T070000
END:DAYLIGHT
BEGIN:STANDARD
TZOFFSETFROM:-0400
TZOFFSETTO:-0500
TZNAME:EST
DTSTART:20251102T060000
END:STANDARD
BEGIN:DAYLIGHT
TZOFFSETFROM:-0500
TZOFFSETTO:-0400
TZNAME:EDT
DTSTART:20260308T070000
END:DAYLIGHT
BEGIN:STANDARD
TZOFFSETFROM:-0400
TZOFFSETTO:-0500
TZNAME:EST
DTSTART:20261101T060000
END:STANDARD
END:VTIMEZONE
BEGIN:VEVENT
DTSTART;TZID=America/New_York:20250605T180000
DTEND;TZID=America/New_York:20250605T220000
DTSTAMP:20260425T063436
CREATED:20250504T002907Z
LAST-MODIFIED:20250605T145832Z
UID:4793-1749146400-1749160800@njfriendshiphouse.org
SUMMARY:Designer Bag Bingo
DESCRIPTION:We are excited to announce our upcoming Designer Bag Bingo and Mini Tricky Tray event\, scheduled for Thursday\, June 5th\, at the Hall at Church of the Assumption in Emerson (GPS 35 Locust\, Emerson\, NJ). \nAdmission includes one (1) book of 10 bingo cards\, along with complimentary coffee\, tea\, and dessert. Additional bingo books (10 games) can be purchased for $10 each. \nThe event will feature a mini tricky tray with approximately 30 baskets\, and an on-site 50/50 raffle will be drawn at the end of the evening. Feel free to bring your own food and drinks\, but note that coffee\, tea\, and dessert will be provided. \n**Bingo Commission Rules:** \n– No one under the age of eighteen (18) is allowed to attend Designer Bag Bingo. \n– Tipping of Bingo workers is not permitted. \n– Seating cannot be saved. \nTickets are $40 and can be purchased tonight “at the door.” Please consider joining us. We accept checks\, cash\, and credit cards.
URL:https://njfriendshiphouse.org/event/designer-bag-bingo/
LOCATION:Church of the Assumption\, 29 Jefferson Ave\, Emerson\, NJ\, 07630\, United States
CATEGORIES:Fundraiser
ATTACH;FMTTYPE=image/png:https://njfriendshiphouse.org/wp-content/uploads/2025/05/Designer-Bag-Bingo-11.png
END:VEVENT
END:VCALENDAR